BEGIN:VCALENDAR
VERSION:2.0
PRODID:icalendar-ruby
CALSCALE:GREGORIAN
METHOD:PUBLISH
NAME:Ferien in Kärnten 2026
BEGIN:VEVENT
DTSTAMP:20260424T145609Z
UID:db40c74f-ec39-40ce-8415-c241197dac88
DTSTART;VALUE=DATE:20260209
DTEND;VALUE=DATE:20260216
DESCRIPTION:Semesterferien 2026 in Kärnten - Importiert von Ferienwiki
SUMMARY:Semesterferien
URL:https://www.ferienwiki.at/ferientermine/2026/at/semester
END:VEVENT
BEGIN:VEVENT
DTSTAMP:20260424T145609Z
UID:531c0156-6a47-40cc-9e65-fe49cc07f73b
DTSTART;VALUE=DATE:20260319
DTEND;VALUE=DATE:20260320
DESCRIPTION:Osterferien 2026 in Kärnten - Importiert von Ferienwiki
SUMMARY:Osterferien
URL:https://www.ferienwiki.at/ferientermine/2026/at/osterferien
END:VEVENT
BEGIN:VEVENT
DTSTAMP:20260424T145609Z
UID:475c4997-7f37-461a-8c9d-cbd34353874e
DTSTART;VALUE=DATE:20260328
DTEND;VALUE=DATE:20260407
DESCRIPTION:Osterferien 2026 in Kärnten - Importiert von Ferienwiki
SUMMARY:Osterferien
URL:https://www.ferienwiki.at/ferientermine/2026/at/osterferien
END:VEVENT
BEGIN:VEVENT
DTSTAMP:20260424T145609Z
UID:b6ef3c4f-bd8e-4aba-8a93-20391a20f5a5
DTSTART;VALUE=DATE:20260711
DTEND;VALUE=DATE:20260914
DESCRIPTION:Sommerferien 2026 in Kärnten - Importiert von Ferienwiki
SUMMARY:Sommerferien
URL:https://www.ferienwiki.at/ferientermine/2026/at/sommerferien
END:VEVENT
BEGIN:VEVENT
DTSTAMP:20260424T145609Z
UID:6c863019-d3b1-4776-90ae-bd139b8df6df
DTSTART;VALUE=DATE:20261027
DTEND;VALUE=DATE:20261031
DESCRIPTION:Herbstferien 2026 in Kärnten - Importiert von Ferienwiki
SUMMARY:Herbstferien
URL:https://www.ferienwiki.at/ferientermine/2026/at/herbstferien
END:VEVENT
BEGIN:VEVENT
DTSTAMP:20260424T145609Z
UID:dc28700b-7696-4575-b460-094fb14a52c1
DTSTART;VALUE=DATE:20261224
DTEND;VALUE=DATE:20270107
DESCRIPTION:Weihnachtsferien 2026 in Kärnten - Importiert von Ferienwiki
SUMMARY:Weihnachtsferien
URL:https://www.ferienwiki.at/ferientermine/2026/at/weihnachtsferien
END:VEVENT
BEGIN:VEVENT
DTSTAMP:20260424T145609Z
UID:76673dcc-f7cb-4e02-8622-54e3352b925b
DTSTART;VALUE=DATE:20260523
DTEND;VALUE=DATE:20260526
DESCRIPTION:Pfingstferien 2026 in Kärnten - Importiert von Ferienwiki
SUMMARY:Pfingstferien
URL:https://www.ferienwiki.at/ferientermine/2026/at/pfingstferien
END:VEVENT
END:VCALENDAR
