BEGIN:VCALENDAR
VERSION:2.0
PRODID:icalendar-ruby
CALSCALE:GREGORIAN
METHOD:PUBLISH
NAME:Feiertage in Vorarlberg 2027
BEGIN:VEVENT
DTSTAMP:20260424T145604Z
UID:ca140de5-1119-49e3-a4a6-2863f02cc00e
DTSTART;VALUE=DATE:20270101
DTEND;VALUE=DATE:20270102
DESCRIPTION:Neujahr - Importiert von Ferienwiki.de
SUMMARY:Neujahr
URL:https://www.ferienwiki.at/feiertage/neujahr
END:VEVENT
BEGIN:VEVENT
DTSTAMP:20260424T145604Z
UID:753dc7af-b004-47fa-a370-30725b5bfcd2
DTSTART;VALUE=DATE:20270106
DTEND;VALUE=DATE:20270107
DESCRIPTION:Heilige Drei Könige - Importiert von Ferienwiki.de
SUMMARY:Heilige Drei Könige
URL:https://www.ferienwiki.at/feiertage/heilige-drei-koenige
END:VEVENT
BEGIN:VEVENT
DTSTAMP:20260424T145604Z
UID:5160fdfe-571a-4d6d-b089-ef519df25f6c
DTSTART;VALUE=DATE:20270328
DTEND;VALUE=DATE:20270329
DESCRIPTION:Ostersonntag - Importiert von Ferienwiki.de
SUMMARY:Ostersonntag
URL:https://www.ferienwiki.at/feiertage/ostersonntag
END:VEVENT
BEGIN:VEVENT
DTSTAMP:20260424T145604Z
UID:7a720211-2d7f-4944-b0b7-05fefb966cd5
DTSTART;VALUE=DATE:20270329
DTEND;VALUE=DATE:20270330
DESCRIPTION:Ostermontag - Importiert von Ferienwiki.de
SUMMARY:Ostermontag
URL:https://www.ferienwiki.at/feiertage/ostermontag
END:VEVENT
BEGIN:VEVENT
DTSTAMP:20260424T145604Z
UID:88fe93ae-dd53-4f71-a217-ee2ff16a3232
DTSTART;VALUE=DATE:20270501
DTEND;VALUE=DATE:20270502
DESCRIPTION:Staatsfeiertag - Importiert von Ferienwiki.de
SUMMARY:Staatsfeiertag
URL:https://www.ferienwiki.at/feiertage/staatsfeiertag
END:VEVENT
BEGIN:VEVENT
DTSTAMP:20260424T145604Z
UID:75b5cc7f-7899-4c97-a761-e6661beecf7f
DTSTART;VALUE=DATE:20270506
DTEND;VALUE=DATE:20270507
DESCRIPTION:Christi Himmelfahrt - Importiert von Ferienwiki.de
SUMMARY:Christi Himmelfahrt
URL:https://www.ferienwiki.at/feiertage/christi-himmelfahrt
END:VEVENT
BEGIN:VEVENT
DTSTAMP:20260424T145604Z
UID:30dba117-876a-4e18-8ad4-db179a5fbf88
DTSTART;VALUE=DATE:20270516
DTEND;VALUE=DATE:20270517
DESCRIPTION:Pfingstsonntag - Importiert von Ferienwiki.de
SUMMARY:Pfingstsonntag
URL:https://www.ferienwiki.at/feiertage/pfingstsonntag
END:VEVENT
BEGIN:VEVENT
DTSTAMP:20260424T145604Z
UID:b6a2fb36-895b-424b-875b-824d16e1a460
DTSTART;VALUE=DATE:20270517
DTEND;VALUE=DATE:20270518
DESCRIPTION:Pfingstmontag - Importiert von Ferienwiki.de
SUMMARY:Pfingstmontag
URL:https://www.ferienwiki.at/feiertage/pfingstmontag
END:VEVENT
BEGIN:VEVENT
DTSTAMP:20260424T145604Z
UID:bad1b702-565f-40bd-8b7e-549f86b04887
DTSTART;VALUE=DATE:20270527
DTEND;VALUE=DATE:20270528
DESCRIPTION:Fronleichnam - Importiert von Ferienwiki.de
SUMMARY:Fronleichnam
URL:https://www.ferienwiki.at/feiertage/fronleichnam
END:VEVENT
BEGIN:VEVENT
DTSTAMP:20260424T145604Z
UID:67123ff4-72bf-4b2b-9394-688e0b4113c9
DTSTART;VALUE=DATE:20270815
DTEND;VALUE=DATE:20270816
DESCRIPTION:Mariä Himmelfahrt - Importiert von Ferienwiki.de
SUMMARY:Mariä Himmelfahrt
URL:https://www.ferienwiki.at/feiertage/mariae-himmelfahrt
END:VEVENT
BEGIN:VEVENT
DTSTAMP:20260424T145604Z
UID:3ba063bc-4ccf-4a4b-adc1-413a6907b509
DTSTART;VALUE=DATE:20271026
DTEND;VALUE=DATE:20271027
DESCRIPTION:Nationalfeiertag - Importiert von Ferienwiki.de
SUMMARY:Nationalfeiertag
URL:https://www.ferienwiki.at/feiertage/nationalfeiertag
END:VEVENT
BEGIN:VEVENT
DTSTAMP:20260424T145604Z
UID:9a8bff14-849c-4860-a664-5f720ad5d157
DTSTART;VALUE=DATE:20271101
DTEND;VALUE=DATE:20271102
DESCRIPTION:Allerheiligen - Importiert von Ferienwiki.de
SUMMARY:Allerheiligen
URL:https://www.ferienwiki.at/feiertage/allerheiligen
END:VEVENT
BEGIN:VEVENT
DTSTAMP:20260424T145604Z
UID:8e41832c-b4c0-4280-9649-0646c956282c
DTSTART;VALUE=DATE:20271208
DTEND;VALUE=DATE:20271209
DESCRIPTION:Mariä Empfängnis - Importiert von Ferienwiki.de
SUMMARY:Mariä Empfängnis
URL:https://www.ferienwiki.at/feiertage/mariae-empfaengnis
END:VEVENT
BEGIN:VEVENT
DTSTAMP:20260424T145604Z
UID:43675ab4-db70-4e96-b7fb-deeb764c923f
DTSTART;VALUE=DATE:20271225
DTEND;VALUE=DATE:20271226
DESCRIPTION:Weihnachten - Importiert von Ferienwiki.de
SUMMARY:Weihnachten
URL:https://www.ferienwiki.at/feiertage/weihnachten
END:VEVENT
BEGIN:VEVENT
DTSTAMP:20260424T145604Z
UID:cef73fff-3e7f-41e8-b22a-56f8da3ddf09
DTSTART;VALUE=DATE:20271226
DTEND;VALUE=DATE:20271227
DESCRIPTION:Stefanitag - Importiert von Ferienwiki.de
SUMMARY:Stefanitag
URL:https://www.ferienwiki.at/feiertage/stefanitag
END:VEVENT
END:VCALENDAR
