BEGIN:VCALENDAR
VERSION:2.0
PRODID:icalendar-ruby
CALSCALE:GREGORIAN
METHOD:PUBLISH
NAME:Feiertage in Österreich 2026
BEGIN:VEVENT
DTSTAMP:20260424T145321Z
UID:3cab9763-54f5-4af4-b0b9-b0543131a14d
DTSTART;VALUE=DATE:20260101
DTEND;VALUE=DATE:20260102
DESCRIPTION:Neujahr - Importiert von Ferienwiki.de
SUMMARY:Neujahr
URL:https://www.ferienwiki.at/feiertage/neujahr
END:VEVENT
BEGIN:VEVENT
DTSTAMP:20260424T145321Z
UID:fa7cb8cd-7bea-4457-a456-f4a306270f2b
DTSTART;VALUE=DATE:20260106
DTEND;VALUE=DATE:20260107
DESCRIPTION:Heilige Drei Könige - Importiert von Ferienwiki.de
SUMMARY:Heilige Drei Könige
URL:https://www.ferienwiki.at/feiertage/heilige-drei-koenige
END:VEVENT
BEGIN:VEVENT
DTSTAMP:20260424T145321Z
UID:7455d312-a584-4019-b791-43a57a369aef
DTSTART;VALUE=DATE:20260405
DTEND;VALUE=DATE:20260406
DESCRIPTION:Ostersonntag - Importiert von Ferienwiki.de
SUMMARY:Ostersonntag
URL:https://www.ferienwiki.at/feiertage/ostersonntag
END:VEVENT
BEGIN:VEVENT
DTSTAMP:20260424T145321Z
UID:8be73597-a77a-4153-8ed1-95124656bb6b
DTSTART;VALUE=DATE:20260406
DTEND;VALUE=DATE:20260407
DESCRIPTION:Ostermontag - Importiert von Ferienwiki.de
SUMMARY:Ostermontag
URL:https://www.ferienwiki.at/feiertage/ostermontag
END:VEVENT
BEGIN:VEVENT
DTSTAMP:20260424T145321Z
UID:497a1dd3-106f-46e7-a938-569d9a38b674
DTSTART;VALUE=DATE:20260501
DTEND;VALUE=DATE:20260502
DESCRIPTION:Staatsfeiertag - Importiert von Ferienwiki.de
SUMMARY:Staatsfeiertag
URL:https://www.ferienwiki.at/feiertage/staatsfeiertag
END:VEVENT
BEGIN:VEVENT
DTSTAMP:20260424T145321Z
UID:416708b2-78c6-47b2-b49b-45eab760a5a6
DTSTART;VALUE=DATE:20260514
DTEND;VALUE=DATE:20260515
DESCRIPTION:Christi Himmelfahrt - Importiert von Ferienwiki.de
SUMMARY:Christi Himmelfahrt
URL:https://www.ferienwiki.at/feiertage/christi-himmelfahrt
END:VEVENT
BEGIN:VEVENT
DTSTAMP:20260424T145321Z
UID:86824d5e-a8af-49b3-be63-bc4f978e55c1
DTSTART;VALUE=DATE:20260524
DTEND;VALUE=DATE:20260525
DESCRIPTION:Pfingstsonntag - Importiert von Ferienwiki.de
SUMMARY:Pfingstsonntag
URL:https://www.ferienwiki.at/feiertage/pfingstsonntag
END:VEVENT
BEGIN:VEVENT
DTSTAMP:20260424T145321Z
UID:dba026d8-e3a2-41e1-8b20-3cecee2bed2e
DTSTART;VALUE=DATE:20260525
DTEND;VALUE=DATE:20260526
DESCRIPTION:Pfingstmontag - Importiert von Ferienwiki.de
SUMMARY:Pfingstmontag
URL:https://www.ferienwiki.at/feiertage/pfingstmontag
END:VEVENT
BEGIN:VEVENT
DTSTAMP:20260424T145321Z
UID:2296fe2e-7de6-45b1-9eae-447989fe3d3e
DTSTART;VALUE=DATE:20260604
DTEND;VALUE=DATE:20260605
DESCRIPTION:Fronleichnam - Importiert von Ferienwiki.de
SUMMARY:Fronleichnam
URL:https://www.ferienwiki.at/feiertage/fronleichnam
END:VEVENT
BEGIN:VEVENT
DTSTAMP:20260424T145321Z
UID:aa621217-673a-4667-8c8f-aeb76fb0b32c
DTSTART;VALUE=DATE:20260815
DTEND;VALUE=DATE:20260816
DESCRIPTION:Mariä Himmelfahrt - Importiert von Ferienwiki.de
SUMMARY:Mariä Himmelfahrt
URL:https://www.ferienwiki.at/feiertage/mariae-himmelfahrt
END:VEVENT
BEGIN:VEVENT
DTSTAMP:20260424T145321Z
UID:7069a269-f47d-4edb-a969-a25a8ccf17cc
DTSTART;VALUE=DATE:20261026
DTEND;VALUE=DATE:20261027
DESCRIPTION:Nationalfeiertag - Importiert von Ferienwiki.de
SUMMARY:Nationalfeiertag
URL:https://www.ferienwiki.at/feiertage/nationalfeiertag
END:VEVENT
BEGIN:VEVENT
DTSTAMP:20260424T145321Z
UID:d782d32e-80ae-4a09-a849-fcf9dd3dfd87
DTSTART;VALUE=DATE:20261101
DTEND;VALUE=DATE:20261102
DESCRIPTION:Allerheiligen - Importiert von Ferienwiki.de
SUMMARY:Allerheiligen
URL:https://www.ferienwiki.at/feiertage/allerheiligen
END:VEVENT
BEGIN:VEVENT
DTSTAMP:20260424T145321Z
UID:acd7b17a-c477-49fa-bab0-4fa67fbe6499
DTSTART;VALUE=DATE:20261208
DTEND;VALUE=DATE:20261209
DESCRIPTION:Mariä Empfängnis - Importiert von Ferienwiki.de
SUMMARY:Mariä Empfängnis
URL:https://www.ferienwiki.at/feiertage/mariae-empfaengnis
END:VEVENT
BEGIN:VEVENT
DTSTAMP:20260424T145321Z
UID:b486fdfd-26f5-46e1-85ee-2f46e842c2d9
DTSTART;VALUE=DATE:20261225
DTEND;VALUE=DATE:20261226
DESCRIPTION:Weihnachten - Importiert von Ferienwiki.de
SUMMARY:Weihnachten
URL:https://www.ferienwiki.at/feiertage/weihnachten
END:VEVENT
BEGIN:VEVENT
DTSTAMP:20260424T145321Z
UID:80a955ba-7374-43e2-bde3-1d8e7feb45bd
DTSTART;VALUE=DATE:20261226
DTEND;VALUE=DATE:20261227
DESCRIPTION:Stefanitag - Importiert von Ferienwiki.de
SUMMARY:Stefanitag
URL:https://www.ferienwiki.at/feiertage/stefanitag
END:VEVENT
END:VCALENDAR
